BEGIN:VCALENDAR
VERSION:2.0
PRODID:-//Geauga County Sheriff&#039;s Office - ECPv6.15.20//NONSGML v1.0//EN
CALSCALE:GREGORIAN
METHOD:PUBLISH
X-WR-CALNAME:Geauga County Sheriff&#039;s Office
X-ORIGINAL-URL:https://sheriff.co.geauga.oh.us
X-WR-CALDESC:Events for Geauga County Sheriff&#039;s Office
REFRESH-INTERVAL;VALUE=DURATION:PT1H
X-Robots-Tag:noindex
X-PUBLISHED-TTL:PT1H
BEGIN:VTIMEZONE
TZID:America/New_York
BEGIN:DAYLIGHT
TZOFFSETFROM:-0500
TZOFFSETTO:-0400
TZNAME:EDT
DTSTART:20220313T070000
END:DAYLIGHT
BEGIN:STANDARD
TZOFFSETFROM:-0400
TZOFFSETTO:-0500
TZNAME:EST
DTSTART:20221106T060000
END:STANDARD
BEGIN:DAYLIGHT
TZOFFSETFROM:-0500
TZOFFSETTO:-0400
TZNAME:EDT
DTSTART:20230312T070000
END:DAYLIGHT
BEGIN:STANDARD
TZOFFSETFROM:-0400
TZOFFSETTO:-0500
TZNAME:EST
DTSTART:20231105T060000
END:STANDARD
BEGIN:DAYLIGHT
TZOFFSETFROM:-0500
TZOFFSETTO:-0400
TZNAME:EDT
DTSTART:20240310T070000
END:DAYLIGHT
BEGIN:STANDARD
TZOFFSETFROM:-0400
TZOFFSETTO:-0500
TZNAME:EST
DTSTART:20241103T060000
END:STANDARD
END:VTIMEZONE
BEGIN:VEVENT
DTSTART;TZID=America/New_York:20231014T170000
DTEND;TZID=America/New_York:20231014T200000
DTSTAMP:20260424T121046
CREATED:20230922T172739Z
LAST-MODIFIED:20230922T184036Z
UID:12472-1697302800-1697313600@sheriff.co.geauga.oh.us
SUMMARY:Geauga County Sheriff K-9 Unit Fundraiser
DESCRIPTION:Sponsored by: \n \nPlease join us for a delicious prime rib dinner\, Basket and Silent Auctions\, 50/50 and a reverse raffle with a top prize of $2000! \nwhich was graciously donated by Melzer Fuel Service! \nDinner is served from 5:30 – 7:00 PM\, raffle begins at 7:15pm. \nTickets are $100 each for the dinner/raffle. (Please make checks payable to Chardon VFW -memo “K9”) Basket\, Silent Auction’s and 50/50 are sold separately. \n**This event will be open at noon until 5pm for those not purchasing dinner/raffle tickets. \nAfter 5pm will be for dinner/raffle ticket holders only.
URL:https://sheriff.co.geauga.oh.us/event/geauga-county-sheriff-k-9-unit-fundraiser/
LOCATION:Chardon VFW\, 752 Water St\, Chardon\, OH\, 44024\, United States
CATEGORIES:Fundraiser,K9
ATTACH;FMTTYPE=image/jpeg:https://sheriff.co.geauga.oh.us/wp-content/uploads/sites/33/2023/09/K9BlueLine.jpg
END:VEVENT
BEGIN:VEVENT
DTSTART;TZID=America/New_York:20231014T120000
DTEND;TZID=America/New_York:20231014T170000
DTSTAMP:20260424T121046
CREATED:20230922T174338Z
LAST-MODIFIED:20230922T183842Z
UID:12484-1697284800-1697302800@sheriff.co.geauga.oh.us
SUMMARY:Prime Time for K9's
DESCRIPTION:Prime Time for K9’s benefiting the Geauga County Sheriffs Office K9 unit\nSponsored by \n \nPick 3 lotto raffle $10 ticket only 1000 tickets sold. \nWinner determined by the winning evening pick 3 numbers from the ohio lottery on October 14th \nNo need to be present to win! \nPurchase tickets online at BlueLineUnlimited.com \nDrawing held on Saturday\, October 14th at the Chardon VFW \nAny unsold tickets by the time of the drawing remain property of the Geauga County Sheriff’s Office K9 Unit
URL:https://sheriff.co.geauga.oh.us/event/prime-time-for-k9s/
LOCATION:Chardon VFW\, 752 Water St\, Chardon\, OH\, 44024\, United States
CATEGORIES:Fundraiser,K9
ATTACH;FMTTYPE=image/jpeg:https://sheriff.co.geauga.oh.us/wp-content/uploads/sites/33/2023/09/Blue-Line-Raffle.jpg
END:VEVENT
END:VCALENDAR