BEGIN:VCALENDAR
VERSION:2.0
PRODID:-//Geauga County Sheriff&#039;s Office - ECPv6.15.20//NONSGML v1.0//EN
CALSCALE:GREGORIAN
METHOD:PUBLISH
X-ORIGINAL-URL:https://sheriff.co.geauga.oh.us
X-WR-CALDESC:Events for Geauga County Sheriff&#039;s Office
REFRESH-INTERVAL;VALUE=DURATION:PT1H
X-Robots-Tag:noindex
X-PUBLISHED-TTL:PT1H
BEGIN:VTIMEZONE
TZID:America/New_York
BEGIN:DAYLIGHT
TZOFFSETFROM:-0500
TZOFFSETTO:-0400
TZNAME:EDT
DTSTART:20220313T070000
END:DAYLIGHT
BEGIN:STANDARD
TZOFFSETFROM:-0400
TZOFFSETTO:-0500
TZNAME:EST
DTSTART:20221106T060000
END:STANDARD
BEGIN:DAYLIGHT
TZOFFSETFROM:-0500
TZOFFSETTO:-0400
TZNAME:EDT
DTSTART:20230312T070000
END:DAYLIGHT
BEGIN:STANDARD
TZOFFSETFROM:-0400
TZOFFSETTO:-0500
TZNAME:EST
DTSTART:20231105T060000
END:STANDARD
BEGIN:DAYLIGHT
TZOFFSETFROM:-0500
TZOFFSETTO:-0400
TZNAME:EDT
DTSTART:20240310T070000
END:DAYLIGHT
BEGIN:STANDARD
TZOFFSETFROM:-0400
TZOFFSETTO:-0500
TZNAME:EST
DTSTART:20241103T060000
END:STANDARD
BEGIN:DAYLIGHT
TZOFFSETFROM:-0500
TZOFFSETTO:-0400
TZNAME:EDT
DTSTART:20250309T070000
END:DAYLIGHT
BEGIN:STANDARD
TZOFFSETFROM:-0400
TZOFFSETTO:-0500
TZNAME:EST
DTSTART:20251102T060000
END:STANDARD
END:VTIMEZONE
BEGIN:VEVENT
DTSTART;TZID=America/New_York:20241023T173000
DTEND;TZID=America/New_York:20241023T203000
DTSTAMP:20260424T091647
CREATED:20241011T143857Z
LAST-MODIFIED:20241011T143911Z
UID:12713-1729704600-1729715400@sheriff.co.geauga.oh.us
SUMMARY:Trunk or Treat
DESCRIPTION:The Geauga County Sheriff’s Office 4th annual \n\nWe invite you to join us for a spooktacular event! \nat the Geauga County Safety Center\, 12450 Merritt Rd\, Chardon\, OH 44024. \nOctober 23th 5:30-8:30 pm \nThis is a free community Event. \nFor more info call: 440.279.2070
URL:https://sheriff.co.geauga.oh.us/event/trunk-or-treat-2/
LOCATION:Geauga County Safety Center\, 12450 Merritt Rd.\, Chardon\, OH\, 44024\, United States
END:VEVENT
BEGIN:VEVENT
DTSTART;TZID=America/New_York:20231028T100000
DTEND;TZID=America/New_York:20231028T140000
DTSTAMP:20260424T091647
CREATED:20230922T175142Z
LAST-MODIFIED:20230922T175856Z
UID:12490-1698487200-1698501600@sheriff.co.geauga.oh.us
SUMMARY:National Drug Take Back
DESCRIPTION:  \n \nWe will be taking over the counter medications\, prescription medication\, inhalers\, syringes\, and liquids at this event. \nALL NEEDLES MUST BE IN A PUNCTURE PROOF CONTAINER \nIf you have any questions\, please call (440) 279-2070 or Contact Us.
URL:https://sheriff.co.geauga.oh.us/event/national-drug-take-back/
LOCATION:Geauga County Safety Center\, 12450 Merritt Rd.\, Chardon\, OH\, 44024\, United States
ATTACH;FMTTYPE=image/png:https://sheriff.co.geauga.oh.us/wp-content/uploads/sites/33/2023/09/takeback.png
END:VEVENT
BEGIN:VEVENT
DTSTART;TZID=America/New_York:20231026T183000
DTEND;TZID=America/New_York:20231026T203000
DTSTAMP:20260424T091647
CREATED:20230922T171044Z
LAST-MODIFIED:20230922T185205Z
UID:12464-1698345000-1698352200@sheriff.co.geauga.oh.us
SUMMARY:Trunk or Treat
DESCRIPTION:The Geauga County Sheriff’s Office 3rd annual \n\nWe invite you to join us for a spooktacular event! \nat the Geauga County Safety Center\, 12450 Merritt Rd\, Chardon\, OH 44024. \nOctober 26th 6:30-8:30 pm \nThis is a free community Event. \nFor more info call: 440.279.2070
URL:https://sheriff.co.geauga.oh.us/event/trunk-or-treat/
LOCATION:Geauga County Safety Center\, 12450 Merritt Rd.\, Chardon\, OH\, 44024\, United States
ATTACH;FMTTYPE=image/jpeg:https://sheriff.co.geauga.oh.us/wp-content/uploads/sites/33/2023/09/Trunk-or-Treat-Photo.jpg
END:VEVENT
BEGIN:VEVENT
DTSTART;TZID=America/New_York:20231014T170000
DTEND;TZID=America/New_York:20231014T200000
DTSTAMP:20260424T091647
CREATED:20230922T172739Z
LAST-MODIFIED:20230922T184036Z
UID:12472-1697302800-1697313600@sheriff.co.geauga.oh.us
SUMMARY:Geauga County Sheriff K-9 Unit Fundraiser
DESCRIPTION:Sponsored by: \n \nPlease join us for a delicious prime rib dinner\, Basket and Silent Auctions\, 50/50 and a reverse raffle with a top prize of $2000! \nwhich was graciously donated by Melzer Fuel Service! \nDinner is served from 5:30 – 7:00 PM\, raffle begins at 7:15pm. \nTickets are $100 each for the dinner/raffle. (Please make checks payable to Chardon VFW -memo “K9”) Basket\, Silent Auction’s and 50/50 are sold separately. \n**This event will be open at noon until 5pm for those not purchasing dinner/raffle tickets. \nAfter 5pm will be for dinner/raffle ticket holders only.
URL:https://sheriff.co.geauga.oh.us/event/geauga-county-sheriff-k-9-unit-fundraiser/
LOCATION:Chardon VFW\, 752 Water St\, Chardon\, OH\, 44024\, United States
CATEGORIES:Fundraiser,K9
ATTACH;FMTTYPE=image/jpeg:https://sheriff.co.geauga.oh.us/wp-content/uploads/sites/33/2023/09/K9BlueLine.jpg
END:VEVENT
BEGIN:VEVENT
DTSTART;TZID=America/New_York:20231014T120000
DTEND;TZID=America/New_York:20231014T170000
DTSTAMP:20260424T091647
CREATED:20230922T174338Z
LAST-MODIFIED:20230922T183842Z
UID:12484-1697284800-1697302800@sheriff.co.geauga.oh.us
SUMMARY:Prime Time for K9's
DESCRIPTION:Prime Time for K9’s benefiting the Geauga County Sheriffs Office K9 unit\nSponsored by \n \nPick 3 lotto raffle $10 ticket only 1000 tickets sold. \nWinner determined by the winning evening pick 3 numbers from the ohio lottery on October 14th \nNo need to be present to win! \nPurchase tickets online at BlueLineUnlimited.com \nDrawing held on Saturday\, October 14th at the Chardon VFW \nAny unsold tickets by the time of the drawing remain property of the Geauga County Sheriff’s Office K9 Unit
URL:https://sheriff.co.geauga.oh.us/event/prime-time-for-k9s/
LOCATION:Chardon VFW\, 752 Water St\, Chardon\, OH\, 44024\, United States
CATEGORIES:Fundraiser,K9
ATTACH;FMTTYPE=image/jpeg:https://sheriff.co.geauga.oh.us/wp-content/uploads/sites/33/2023/09/Blue-Line-Raffle.jpg
END:VEVENT
BEGIN:VEVENT
DTSTART;TZID=America/New_York:20231013T180000
DTEND;TZID=America/New_York:20231013T235500
DTSTAMP:20260424T091647
CREATED:20230922T170153Z
LAST-MODIFIED:20230922T183500Z
UID:12449-1697220000-1697241300@sheriff.co.geauga.oh.us
SUMMARY:Halloween Night Out
DESCRIPTION:You’re invited to join the Friends of LOSS for a \nHALLOWEEN NIGHT OUT\nTake part in the first fundraising event ever on \nFRIDAY THE 13TH\nBurton Century Village (Bond Building) \n14653 E Park St\, Burton\, OH 44021 \n6:00-10:00 pm \nTickets: $65 per person or $110 per couple \nIncludes \n\nGourmet buffet\n2 Drink Tickets per person (beer or wine) 21 and older\nDancing\nExperience Auction\nRaffle baskets\nPrizes of Best Costume and Best Masquerade Mask\n\nClick here for tickets
URL:https://sheriff.co.geauga.oh.us/event/halloween-night-out/
LOCATION:Burton Century Village\, 14653 E Park St\, Burton\, OH\, 44021\, United States
CATEGORIES:FLOSS,Fundraiser
ATTACH;FMTTYPE=image/png:https://sheriff.co.geauga.oh.us/wp-content/uploads/sites/33/2023/09/Loss-Team-Final-Draft.png
END:VEVENT
END:VCALENDAR